BEGIN:VCALENDAR
VERSION:2.0
PRODID:Events Booking
BEGIN:VEVENT
UID:69e513f486399
SUMMARY:Understand The Rules Of The Game 2022 - Annual Conference
DESCRIPTION:The 8th edition of LawInSport’s Annual Conference ‘Understa
 nd The Rules Of The Game’ in collaboration with Women In Sports Law (WIS
 Law)\, will be held at the Royal Institution\, Central London on 7th &amp\
 ; 8th September 2022.
 This two day conference brings together over 250 l
 eading sports lawyers\, sports executives\, academics\, students and athle
 tes to network and discuss the key issues and developments in internationa
 l sports law.
 You will be able to follow updates about the conference by
  using #LISconf22.
 &nbsp\;
LOCATION:21 Albemarle St\, Mayfair\, London W1S\, UK
DTSTART:20220907T080000Z
DTEND:20220908T200000Z
DTSTAMP:20220325T093143Z
ORGANIZER;CN=LawInSport Events:MAILTO:events@lawinsport.com
GEO:51.509589;-0.142148
X-APPLE-STRUCTURED-LOCATION;VALUE=URI;X-ADDRESS=21 Albemarle St\, Mayfair\,
  London W1S\, UK;X-APPLE-RADIUS=72;X-TITLE=The Royal Institution of Great 
 Britain:51.509589;-0.142148
END:VEVENT
END:VCALENDAR